BEGIN:VCALENDAR
VERSION:2.0
PRODID:-//Town of Goldsboro - ECPv6.15.12.2//NONSGML v1.0//EN
CALSCALE:GREGORIAN
METHOD:PUBLISH
X-WR-CALNAME:Town of Goldsboro
X-ORIGINAL-URL:https://goldsboromd.com
X-WR-CALDESC:Events for Town of Goldsboro
REFRESH-INTERVAL;VALUE=DURATION:PT1H
X-Robots-Tag:noindex
X-PUBLISHED-TTL:PT1H
BEGIN:VTIMEZONE
TZID:America/New_York
BEGIN:DAYLIGHT
TZOFFSETFROM:-0500
TZOFFSETTO:-0400
TZNAME:EDT
DTSTART:20210314T070000
END:DAYLIGHT
BEGIN:STANDARD
TZOFFSETFROM:-0400
TZOFFSETTO:-0500
TZNAME:EST
DTSTART:20211107T060000
END:STANDARD
BEGIN:DAYLIGHT
TZOFFSETFROM:-0500
TZOFFSETTO:-0400
TZNAME:EDT
DTSTART:20220313T070000
END:DAYLIGHT
BEGIN:STANDARD
TZOFFSETFROM:-0400
TZOFFSETTO:-0500
TZNAME:EST
DTSTART:20221106T060000
END:STANDARD
BEGIN:DAYLIGHT
TZOFFSETFROM:-0500
TZOFFSETTO:-0400
TZNAME:EDT
DTSTART:20230312T070000
END:DAYLIGHT
BEGIN:STANDARD
TZOFFSETFROM:-0400
TZOFFSETTO:-0500
TZNAME:EST
DTSTART:20231105T060000
END:STANDARD
BEGIN:DAYLIGHT
TZOFFSETFROM:-0500
TZOFFSETTO:-0400
TZNAME:EDT
DTSTART:20240310T070000
END:DAYLIGHT
BEGIN:STANDARD
TZOFFSETFROM:-0400
TZOFFSETTO:-0500
TZNAME:EST
DTSTART:20241103T060000
END:STANDARD
END:VTIMEZONE
BEGIN:VEVENT
DTSTART;TZID=America/New_York:20231007T140000
DTEND;TZID=America/New_York:20231007T180000
DTSTAMP:20260422T192251
CREATED:20230725T185659Z
LAST-MODIFIED:20230725T185700Z
UID:1207-1696687200-1696701600@goldsboromd.com
SUMMARY:Goldsboro Fall Fest
DESCRIPTION:Food vendors\, games\, kids activities\, talent show\, silent auction\, and more
URL:https://goldsboromd.com/event/goldsboro-fall-fest-2/
CATEGORIES:Event
ORGANIZER;CN="Town of Goldsboro":MAILTO:clerk@goldsboromd.com
END:VEVENT
BEGIN:VEVENT
DTSTART;TZID=America/New_York:20230926T130000
DTEND;TZID=America/New_York:20230926T150000
DTSTAMP:20260422T192251
CREATED:20230725T185344Z
LAST-MODIFIED:20230725T185344Z
UID:1203-1695733200-1695740400@goldsboromd.com
SUMMARY:Senior Fun Day - Games
DESCRIPTION:Bingo and Trivia
URL:https://goldsboromd.com/event/senior-fun-day-games/
LOCATION:Goldsboro Town Hall\, 505 Railroad Ave\, Goldsboro\, MD\, 21636\, United States
CATEGORIES:Event
ORGANIZER;CN="Town of Goldsboro":MAILTO:clerk@goldsboromd.com
END:VEVENT
BEGIN:VEVENT
DTSTART;TZID=America/New_York:20230822T130000
DTEND;TZID=America/New_York:20230822T150000
DTSTAMP:20260422T192251
CREATED:20230725T185452Z
LAST-MODIFIED:20230725T185452Z
UID:1205-1692709200-1692716400@goldsboromd.com
SUMMARY:Senior Fun Day  - Speaker Caroline County Sheriff
DESCRIPTION:
URL:https://goldsboromd.com/event/senior-fun-day-speaker-caroline-county-sheriff/
LOCATION:Goldsboro Town Hall\, 505 Railroad Ave\, Goldsboro\, MD\, 21636\, United States
CATEGORIES:Event
ORGANIZER;CN="Town of Goldsboro":MAILTO:clerk@goldsboromd.com
END:VEVENT
BEGIN:VEVENT
DTSTART;TZID=America/New_York:20230110T180000
DTEND;TZID=America/New_York:20230110T190000
DTSTAMP:20260422T192251
CREATED:20221220T183449Z
LAST-MODIFIED:20221220T183449Z
UID:1133-1673373600-1673377200@goldsboromd.com
SUMMARY:Town Council Open House
DESCRIPTION:
URL:https://goldsboromd.com/event/town-council-open-house/
LOCATION:Goldsboro Town Hall\, 505 Railroad Ave\, Goldsboro\, MD\, 21636\, United States
CATEGORIES:Event
ATTACH;FMTTYPE=image/png:https://goldsboromd.com/wp-content/uploads/2022/12/open-house.png
ORGANIZER;CN="Town of Goldsboro":MAILTO:clerk@goldsboromd.com
END:VEVENT
BEGIN:VEVENT
DTSTART;TZID=America/New_York:20220802T140000
DTEND;TZID=America/New_York:20220802T160000
DTSTAMP:20260422T192251
CREATED:20220712T220313Z
LAST-MODIFIED:20220712T220313Z
UID:1049-1659448800-1659456000@goldsboromd.com
SUMMARY:Kids Fun Day
DESCRIPTION:A day of fun for the kids of Goldsboro. We will have games\, crafts\, surprise guests and snacks!  All activities and snacks are free of charge! The event will be held at town hall on Aug. 2nd from 2-4pm. Hope to see you there!
URL:https://goldsboromd.com/event/kids-fun-day/
LOCATION:Goldsboro Town Hall\, 505 Railroad Ave\, Goldsboro\, MD\, 21636\, United States
CATEGORIES:Event
ORGANIZER;CN="Town of Goldsboro":MAILTO:clerk@goldsboromd.com
END:VEVENT
BEGIN:VEVENT
DTSTART;TZID=America/New_York:20220618T070000
DTEND;TZID=America/New_York:20220618T130000
DTSTAMP:20260422T192251
CREATED:20220510T183827Z
LAST-MODIFIED:20220510T183827Z
UID:1031-1655535600-1655557200@goldsboromd.com
SUMMARY:Community Yard Sale - Train Station Committee Fundraiser
DESCRIPTION:The Train Station committee will be hosting a community yard sale. Spaces are $5 without a table provided or $10 if you need a table provided. This event will be held at the old train station lot next to the medical center.
URL:https://goldsboromd.com/event/community-yard-sale-train-station-committee-fundraiser/
CATEGORIES:Event
ORGANIZER;CN="Town of Goldsboro":MAILTO:clerk@goldsboromd.com
END:VEVENT
BEGIN:VEVENT
DTSTART;TZID=America/New_York:20220503T173000
DTEND;TZID=America/New_York:20220503T193000
DTSTAMP:20260422T192251
CREATED:20220329T192454Z
LAST-MODIFIED:20220329T192454Z
UID:999-1651599000-1651606200@goldsboromd.com
SUMMARY:TOWN ELECTIONS
DESCRIPTION:The Town of Goldsboro will be holding elections on May 3rd\, 2022. If you wish to be on the ballot you must submit a candidate nomination form before April 12th\, 2022. Contact Town Hall to get a copy of the form. Voting will be from 530pm to 730pm at Town Hall.
URL:https://goldsboromd.com/event/town-elections/
LOCATION:Goldsboro Town Hall\, 505 Railroad Ave\, Goldsboro\, MD\, 21636\, United States
CATEGORIES:Event
ORGANIZER;CN="Town of Goldsboro":MAILTO:clerk@goldsboromd.com
END:VEVENT
END:VCALENDAR